BEGIN:VCALENDAR
VERSION:2.0
PRODID:-//wp-events-plugin.com//5.99912//EN
TZID:Europe/Berlin
X-WR-TIMEZONE:Europe/Berlin
BEGIN:VEVENT
UID:0-469@ludwigsburg.albverein.eu
DTSTART;TZID=Europe/Berlin;VALUE=DATE:20260509
DTEND;TZID=Europe/Berlin;VALUE=DATE:20260510
DTSTAMP:20260110T154454Z
URL:https://ludwigsburg.albverein.eu/events/weinterrassen-rund-um-kirchhei
 m/
SUMMARY:Weinterrassen rund um Kirchheim/N.
DESCRIPTION:Die untenstehenden Angaben sind noch nicht vollständig. Diese 
 werden mit der Veröffentlichung in der LKZ ergänzt.\n\nHinweis: Die Wand
 erung findet samstags statt.\n\n\n\nStreckenverlauf\nRundwanderung in Kirc
 hheim/N.\n\n\nAnforderungen\nGehzeit: 3 Std.\, Länge: 12 km\n\n\nVerpfleg
 ung\nRucksackvesper\, Schlusseinkehr\n\n\nAbfahrt\n Uhr Ludwigsburg Bahnh
 of\n\n\nFahrpreis\nMitglieder 8 €\, Nichtmitglieder 11 €\n\n\nAnmeldun
 g\nbis 8.05.\, 17 Uhr  bei Fa. naturzeit\, Seestr.\n\n\nLeitung\nDieter M
 osdzien\nT. 07144 / 21089\n\n\n\n&nbsp\;
END:VEVENT
BEGIN:VTIMEZONE
TZID:Europe/Berlin
X-LIC-LOCATION:Europe/Berlin
BEGIN:DAYLIGHT
DTSTART:20260329T030000
TZOFFSETFROM:+0100
TZOFFSETTO:+0200
TZNAME:CEST
END:DAYLIGHT
END:VTIMEZONE
END:VCALENDAR