BEGIN:VCALENDAR
VERSION:2.0
PRODID:-//wp-events-plugin.com//5.99912//EN
TZID:Europe/Berlin
X-WR-TIMEZONE:Europe/Berlin
BEGIN:VEVENT
UID:0-468@ludwigsburg.albverein.eu
DTSTART;TZID=Europe/Berlin;VALUE=DATE:20261115
DTEND;TZID=Europe/Berlin;VALUE=DATE:20261116
DTSTAMP:20260110T153717Z
URL:https://ludwigsburg.albverein.eu/events/wanderung-ins-blaue-6/
SUMMARY:Wanderung ins Blaue
DESCRIPTION:Die untenstehenden Angaben sind noch nicht vollständig. Diese 
 werden mit der Veröffentlichung in der LKZ ergänzt.\n\n\n\nAnforderungen
 \nGehzeit: 3 Std.\, Länge: 12 km\n\n\nVerpflegung\nRucksackvesper\, Schlu
 sseinkehr\n\n\nAbfahrt\n Uhr Ludwigsburg Bahnhof\n\n\nFahrpreis\nMitglied
 er  €\, Nichtmitglieder  €\n\n\nAnmeldung\nbis 14.11.\, 11 Uhr  bei
  Fa. naturzeit\, Seestr.\n\n\nLeitung\nDieter Mosdzien\nT. 07144 / 21089\n
 \n\n\n&nbsp\;
END:VEVENT
BEGIN:VTIMEZONE
TZID:Europe/Berlin
X-LIC-LOCATION:Europe/Berlin
BEGIN:STANDARD
DTSTART:20261025T020000
TZOFFSETFROM:+0200
TZOFFSETTO:+0100
TZNAME:CET
END:STANDARD
END:VTIMEZONE
END:VCALENDAR