BEGIN:VCALENDAR
VERSION:2.0
PRODID:-//wp-events-plugin.com//5.99912//EN
TZID:Europe/Berlin
X-WR-TIMEZONE:Europe/Berlin
BEGIN:VEVENT
UID:0-472@ludwigsburg.albverein.eu
DTSTART;TZID=Europe/Berlin;VALUE=DATE:20260607
DTEND;TZID=Europe/Berlin;VALUE=DATE:20260608
DTSTAMP:20260110T160559Z
URL:https://ludwigsburg.albverein.eu/events/von-reichenbach-auf-die-schurw
 aldhoehen/
SUMMARY:Von Reichenbach/Fils auf die Schurwaldhöhen
DESCRIPTION:Die untenstehenden Angaben sind noch nicht vollständig. Diese 
 werden mit der Veröffentlichung in der LKZ ergänzt.\n\n\n\nStreckenverla
 uf\nReichenbach/Fils - Reichenbergtal - Hohengehren\n\n\nAnforderungen\nGe
 hzeit: 3\,5 Std.\, Länge: 13 km\n\n\nVerpflegung\nRucksackvesper\, Schlus
 seinkehr\n\n\nAbfahrt\n Uhr Ludwigsburg Bahnhof\n\n\nFahrpreis\nMitgliede
 r 8 €\, Nichtmitglieder 11 €\n\n\nAnmeldung\nbis 6.06.\, 11 Uhr  bei 
 Fa. naturzeit\, Seestr.\n\n\nLeitung\nElvira und Friedbert Huber\, Mobil: 
 0176 / 26638881\n\n\n\n&nbsp\;
END:VEVENT
BEGIN:VTIMEZONE
TZID:Europe/Berlin
X-LIC-LOCATION:Europe/Berlin
BEGIN:DAYLIGHT
DTSTART:20260329T030000
TZOFFSETFROM:+0100
TZOFFSETTO:+0200
TZNAME:CEST
END:DAYLIGHT
END:VTIMEZONE
END:VCALENDAR