BEGIN:VCALENDAR
VERSION:2.0
PRODID:-//wp-events-plugin.com//5.99912//EN
TZID:Europe/Berlin
X-WR-TIMEZONE:Europe/Berlin
BEGIN:VEVENT
UID:0-466@ludwigsburg.albverein.eu
DTSTART;TZID=Europe/Berlin;VALUE=DATE:20261129
DTEND;TZID=Europe/Berlin;VALUE=DATE:20261130
DTSTAMP:20260110T152224Z
URL:https://ludwigsburg.albverein.eu/events/von-der-murr-zum-neckar/
SUMMARY:Von der Murr zum Neckar
DESCRIPTION:Die untenstehenden Angaben sind noch nicht vollständig. Diese 
 werden mit der Veröffentlichung in der LKZ ergänzt.\n\n\n\nStreckenverla
 uf\nBurgstall/M. - Erdmannhausen - Marbach\n\n\nAnforderungen\nGehzeit: 3 
 Std.\, Länge: 12 km\, Hm: ↑ 160 m\, ↓ 180 m\n\n\nVerpflegung\nRucksac
 kvesper\, Schlusseinkehr\n\n\nAbfahrt\n Uhr Ludwigsburg Bahnhof\n\n\nFahr
 preis\nMitglieder 8 €\, Nichtmitglieder 11 €\n\n\nAnmeldung\nbis 28.11
 .\, 11 Uhr  bei Fa. naturzeit\, Seestr.\nOnline-Anmeldung bis 28.11.\, 10
 :00 Uhr\nOnline-Anmeldung ist noch nicht freigeschaltet\n\n\nLeitung\nKari
 n Altendorf-Holzwarth\, Dieter Holzwarth\nT. 07142 / 7769432\, Mobil: 017
 6 10554671\n\n\n\n&nbsp\;
END:VEVENT
BEGIN:VTIMEZONE
TZID:Europe/Berlin
X-LIC-LOCATION:Europe/Berlin
BEGIN:STANDARD
DTSTART:20261025T020000
TZOFFSETFROM:+0200
TZOFFSETTO:+0100
TZNAME:CET
END:STANDARD
END:VTIMEZONE
END:VCALENDAR