BEGIN:VCALENDAR
VERSION:2.0
PRODID:-//wp-events-plugin.com//5.99912//EN
TZID:Europe/Berlin
X-WR-TIMEZONE:Europe/Berlin
BEGIN:VEVENT
UID:0-465@ludwigsburg.albverein.eu
DTSTART;TZID=Europe/Berlin;VALUE=DATE:20261101
DTEND;TZID=Europe/Berlin;VALUE=DATE:20261102
DTSTAMP:20260110T152144Z
URL:https://ludwigsburg.albverein.eu/events/vom-roemerkastell-zur-gruendun
 gsstaette-des-sav/
SUMMARY:Vom Römerkastell zur Gründungsstätte des SAV
DESCRIPTION:Die untenstehenden Angaben sind noch nicht vollständig. Diese 
 werden mit der Veröffentlichung in der LKZ ergänzt.\n\n\n\nStreckenverla
 uf\nWendlingen - Römerkastell - Plochingen\n\n\nAnforderungen\nGehzeit: 3
  Std.\, Länge: 12 km\, Hm: ↑ 60 m\, ↓ 70 m\n\n\nVerpflegung\nRucksack
 vesper\, Schlusseinkehr\n\n\nAbfahrt\n Uhr Ludwigsburg Bahnhof\n\n\nFahrp
 reis\nMitglieder 8 €\, Nichtmitglieder 11 €\n\n\nAnmeldung\nbis 31.10.
 \, 11 Uhr  bei Fa. naturzeit\, Seestr.\nOnline-Anmeldung bis 31.10.\, 10:
 00 Uhr\nOnline-Anmeldung ist noch nicht freigeschaltet\n\n\nLeitung\nKarin
  Altendorf-Holzwarth\, Dieter Holzwarth\nT. 07142 / 7769432\, Mobil: 0176
  10554671\n\n\n\n&nbsp\;
END:VEVENT
BEGIN:VTIMEZONE
TZID:Europe/Berlin
X-LIC-LOCATION:Europe/Berlin
BEGIN:STANDARD
DTSTART:20261025T020000
TZOFFSETFROM:+0200
TZOFFSETTO:+0100
TZNAME:CET
END:STANDARD
END:VTIMEZONE
END:VCALENDAR