BEGIN:VCALENDAR
VERSION:2.0
PRODID:-//wp-events-plugin.com//5.99912//EN
TZID:Europe/Berlin
X-WR-TIMEZONE:Europe/Berlin
BEGIN:VEVENT
UID:0-491@ludwigsburg.albverein.eu
DTSTART;TZID=Europe/Berlin:20260827T190000
DTEND;TZID=Europe/Berlin:20260827T220000
DTSTAMP:20260112T164857Z
URL:https://ludwigsburg.albverein.eu/events/vollmondwanderung/
SUMMARY:Vollmondwanderung
DESCRIPTION:Die Vollmondwanderung wird von Angelika Steinborn\, OG Tamm\, o
 rganisiert.\nTeilnahme mit eigener Initiative.\n\nKontaktdaten:\nAngelika 
 Steinborn\nT.: 07141 / 602303\nMail: ishizumii@gmx.de
END:VEVENT
BEGIN:VTIMEZONE
TZID:Europe/Berlin
X-LIC-LOCATION:Europe/Berlin
BEGIN:DAYLIGHT
DTSTART:20260329T030000
TZOFFSETFROM:+0100
TZOFFSETTO:+0200
TZNAME:CEST
END:DAYLIGHT
END:VTIMEZONE
END:VCALENDAR