BEGIN:VCALENDAR
VERSION:2.0
PRODID:-//wp-events-plugin.com//5.99912//EN
TZID:Europe/Berlin
X-WR-TIMEZONE:Europe/Berlin
BEGIN:VEVENT
UID:0-464@ludwigsburg.albverein.eu
DTSTART;TZID=Europe/Berlin;VALUE=DATE:20260906
DTEND;TZID=Europe/Berlin;VALUE=DATE:20260907
DTSTAMP:20260110T152310Z
URL:https://ludwigsburg.albverein.eu/events/unterwegs-im-taubertal/
SUMMARY:Unterwegs im Taubertal
DESCRIPTION:Die untenstehenden Angaben sind noch nicht vollständig. Diese 
 werden mit der Veröffentlichung in der LKZ ergänzt.\n\n\n\nStreckenverla
 uf\nGamburg - NSG Apfelberg - Tauberbischofsheim\n\n\nAnforderungen\nGehze
 it: 4 Std.\, Länge: 14 km\, Hm: ↑ 330 m\, ↓ 310 m\n\n\nVerpflegung\nR
 ucksackvesper\, individuelle Einkehr\n\n\nAbfahrt\n Uhr Ludwigsburg Bahnh
 of\n\n\nFahrpreis\nMitglieder 14 €\, Nichtmitglieder 17 €\n\n\nAnmeldu
 ng\nbis 5.09.\, 11 Uhr  bei Fa. naturzeit\, Seestr.\nOnline-Anmeldung bis
  6.09.\, 10:00 Uhr\nOnline-Anmeldung ist noch nicht freigeschaltet\n\n\nLe
 itung\nKarin Altendorf-Holzwarth\, Dieter Holzwarth\nT. 07142 / 7769432\,
  Mobil: 0176 10554671\n\n\n\n&nbsp\;
END:VEVENT
BEGIN:VTIMEZONE
TZID:Europe/Berlin
X-LIC-LOCATION:Europe/Berlin
BEGIN:DAYLIGHT
DTSTART:20260329T030000
TZOFFSETFROM:+0100
TZOFFSETTO:+0200
TZNAME:CEST
END:DAYLIGHT
END:VTIMEZONE
END:VCALENDAR