BEGIN:VCALENDAR
VERSION:2.0
PRODID:-//wp-events-plugin.com//5.99912//EN
TZID:Europe/Berlin
X-WR-TIMEZONE:Europe/Berlin
BEGIN:VEVENT
UID:0-485@ludwigsburg.albverein.eu
DTSTART;TZID=Europe/Berlin;VALUE=DATE:20260425
DTEND;TZID=Europe/Berlin;VALUE=DATE:20260426
DTSTAMP:20260410T150427Z
URL:https://ludwigsburg.albverein.eu/events/tagesfahrt-nach-basel/
SUMMARY:Tagesfahrt nach Basel
DESCRIPTION:Ausrichter der Tagesfahrt ist der Stromberg Gau.\n\nDie Tagesfa
 hrt ist ausgebucht\, es gibt eine Warteliste.\n\nInformationen und Anmeldu
 ng bei Christel Krumm\nTel.: 07141 / 71409\nMail: SAV.krumm@t-online.de\n\
 nFlyer Tagesausflug nach Basel
END:VEVENT
BEGIN:VTIMEZONE
TZID:Europe/Berlin
X-LIC-LOCATION:Europe/Berlin
BEGIN:DAYLIGHT
DTSTART:20260329T030000
TZOFFSETFROM:+0100
TZOFFSETTO:+0200
TZNAME:CEST
END:DAYLIGHT
END:VTIMEZONE
END:VCALENDAR