BEGIN:VCALENDAR
VERSION:2.0
PRODID:-//wp-events-plugin.com//5.99912//EN
TZID:Europe/Berlin
X-WR-TIMEZONE:Europe/Berlin
BEGIN:VEVENT
UID:0-478@ludwigsburg.albverein.eu
DTSTART;TZID=Europe/Berlin;VALUE=DATE:20260514
DTEND;TZID=Europe/Berlin;VALUE=DATE:20260515
DTSTAMP:20260111T184429Z
URL:https://ludwigsburg.albverein.eu/events/tag-des-wanderns-3/
SUMMARY:Tag des Wanderns
DESCRIPTION:Bundesweit laden zum Tag des Wanderns am 14. Mai Vereine\, Umwe
 lt-\, Tourismus- und andere Organisationen sowie Unternehmen\, Schulen\, e
 inzelne Wanderführer und sogar ganze Regionen zu Aktionen rund um das The
 ma Wandern ein. Initiiert hat den Tag des Wanderns vor sechs Jahren der De
 utsche Wanderverband.\n\nIn diesem Jahr übernimmt für den Stromberg Gau 
 im Schwäbischen Albverein e. V. die Ortsgruppe Mühlacker diese Aufgabe. 
 Die Ludwigsburger Ortsgruppe nimmt am Programm des Gauwandertages teil.
END:VEVENT
BEGIN:VTIMEZONE
TZID:Europe/Berlin
X-LIC-LOCATION:Europe/Berlin
BEGIN:DAYLIGHT
DTSTART:20260329T030000
TZOFFSETFROM:+0100
TZOFFSETTO:+0200
TZNAME:CEST
END:DAYLIGHT
END:VTIMEZONE
END:VCALENDAR