BEGIN:VCALENDAR
VERSION:2.0
PRODID:-//wp-events-plugin.com//5.99912//EN
TZID:Europe/Berlin
X-WR-TIMEZONE:Europe/Berlin
BEGIN:VEVENT
UID:0-489@ludwigsburg.albverein.eu
DTSTART;TZID=Europe/Berlin:20260703T170000
DTEND;TZID=Europe/Berlin:20260703T190000
DTSTAMP:20260112T092606Z
URL:https://ludwigsburg.albverein.eu/events/singabend-stromberg-gau-3/
SUMMARY:Singabend Stromberg Gau
DESCRIPTION:In der Gaststätte Schellenhof findet einmal jährlich gemeinsa
 mes Singen statt.\n\nAusrichter ist der Stromberg Gau\nBeginn: 17:00 Uhr\n
 Teilnahme mit eigener Initiative\n\nInformationen bei Christel Krumm\nTel.
 : 07141 / 71409\nMail: SAV.krumm@t-online.de
END:VEVENT
BEGIN:VTIMEZONE
TZID:Europe/Berlin
X-LIC-LOCATION:Europe/Berlin
BEGIN:DAYLIGHT
DTSTART:20260329T030000
TZOFFSETFROM:+0100
TZOFFSETTO:+0200
TZNAME:CEST
END:DAYLIGHT
END:VTIMEZONE
END:VCALENDAR