BEGIN:VCALENDAR
VERSION:2.0
PRODID:-//wp-events-plugin.com//5.99912//EN
TZID:Europe/Berlin
X-WR-TIMEZONE:Europe/Berlin
BEGIN:VEVENT
UID:0-441@ludwigsburg.albverein.eu
DTSTART;TZID=Europe/Berlin:20260508T180000
DTEND;TZID=Europe/Berlin:20260508T200000
DTSTAMP:20260110T133123Z
URL:https://ludwigsburg.albverein.eu/events/singabend-im-schloss-ossweil-3
 2/
SUMMARY:Singabend im Schloss Oßweil
DESCRIPTION:Der Singabend beginnt um 18:00 Uhr im Vereinszimmer im Schloss 
 Oßweil\nin Ludwigsburg.\n\nNäheres bei:\nWerner Behle\nTelefon 07141 / 4
 60035\nemail: werner.behle@elektro-behle.de
END:VEVENT
BEGIN:VTIMEZONE
TZID:Europe/Berlin
X-LIC-LOCATION:Europe/Berlin
BEGIN:DAYLIGHT
DTSTART:20260329T030000
TZOFFSETFROM:+0100
TZOFFSETTO:+0200
TZNAME:CEST
END:DAYLIGHT
END:VTIMEZONE
END:VCALENDAR