BEGIN:VCALENDAR
VERSION:2.0
PRODID:-//wp-events-plugin.com//5.99912//EN
TZID:Europe/Berlin
X-WR-TIMEZONE:Europe/Berlin
BEGIN:VEVENT
UID:0-467@ludwigsburg.albverein.eu
DTSTART;TZID=Europe/Berlin;VALUE=DATE:20261231
DTEND;TZID=Europe/Berlin;VALUE=DATE:20270101
DTSTAMP:20260110T152929Z
URL:https://ludwigsburg.albverein.eu/events/silvesterwanderung-5/
SUMMARY:Silvesterwanderung
DESCRIPTION:Die untenstehenden Angaben sind noch nicht vollständig. Diese 
 werden mit der Veröffentlichung in der LKZ ergänzt.\n\n\n\nStreckenverla
 uf\nWalheim - Erligheim - Freudental\, Birkenwald\n\n\nAnforderungen\nGehz
 eit: 3 Std.\, Länge: 12 km\, Hm: ↑ 180 m\, ↓ 70 m\n\n\nVerpflegung\nR
 ucksackvesper\, Glühweintreff beim Birkenwald\, Freudental\n\n\nAbfahrt\n
  Uhr Ludwigsburg Bahnhof\n\n\nFahrpreis\nMitglieder 8 €\, Nichtmitglied
 er 11 €\n\n\nAnmeldung\nnur Online-Anmeldung bis 30.12.\, 17:00 Uhr\nOnl
 ine-Anmeldung ist noch nicht freigeschaltet\nbei Fa. naturzeit ist keine A
 nmeldung möglich\n\n\n\nLeitung\nKarin Altendorf-Holzwarth\, Dieter Holz
 warth\nT. 07142 / 7769432\, Mobil: 0176 10554671\n\n\n\n&nbsp\;
END:VEVENT
BEGIN:VTIMEZONE
TZID:Europe/Berlin
X-LIC-LOCATION:Europe/Berlin
BEGIN:STANDARD
DTSTART:20261025T020000
TZOFFSETFROM:+0200
TZOFFSETTO:+0100
TZNAME:CET
END:STANDARD
END:VTIMEZONE
END:VCALENDAR