BEGIN:VCALENDAR
VERSION:2.0
PRODID:-//wp-events-plugin.com//5.99912//EN
TZID:Europe/Berlin
X-WR-TIMEZONE:Europe/Berlin
BEGIN:VEVENT
UID:0-505@ludwigsburg.albverein.eu
DTSTART;TZID=Europe/Berlin;VALUE=DATE:20261118
DTEND;TZID=Europe/Berlin;VALUE=DATE:20261119
DTSTAMP:20260113T090427Z
URL:https://ludwigsburg.albverein.eu/events/seniorenwanderung-im-raum-kall
 enberg-buerg/
SUMMARY:Seniorenwanderung im Raum Kallenberg - Bürg
DESCRIPTION:Die untenstehenden Angaben sind noch nicht vollständig. Diese 
 werden mit der Veröffentlichung in der LKZ ergänzt.\n\nFolgende Teilwand
 erungen sind möglich:\n\nWanderung mit 1\,5 Std.\nWanderung mit 2 – 2\,
 5 Std.\nSpaziergang\n\nAbfahrt:            13:00 Uhr Lbg. ZOB Steig 
 18\nFahrpreis:         Mitglieder  €\, Nichtmitglieder  €\nAnme
 ldung:      bis 09.11. - 14.11.\, 12:00 Uhr bei Fa. Pudel\, Schillerstr
 . 7\n\nLeitung:            Norbert und Irmi Tauscher mit Team (T. 07
 141 / 870189)
ATTACH;FMTTYPE=image/jpeg:https://ludwigsburg.albverein.eu/wp-content/uplo
 ads/sites/504/2022/06/20220615_133608.jpg
END:VEVENT
BEGIN:VTIMEZONE
TZID:Europe/Berlin
X-LIC-LOCATION:Europe/Berlin
BEGIN:STANDARD
DTSTART:20261025T020000
TZOFFSETFROM:+0200
TZOFFSETTO:+0100
TZNAME:CET
END:STANDARD
END:VTIMEZONE
END:VCALENDAR