BEGIN:VCALENDAR
VERSION:2.0
PRODID:-//wp-events-plugin.com//5.99912//EN
TZID:Europe/Berlin
X-WR-TIMEZONE:Europe/Berlin
BEGIN:VEVENT
UID:0-463@ludwigsburg.albverein.eu
DTSTART;TZID=Europe/Berlin;VALUE=DATE:20260802
DTEND;TZID=Europe/Berlin;VALUE=DATE:20260803
DTSTAMP:20260110T150917Z
URL:https://ludwigsburg.albverein.eu/events/sehenswertes-rund-um-degerloch
 /
SUMMARY:Sehenswertes rund um Degerloch
DESCRIPTION:Die untenstehenden Angaben sind noch nicht vollständig. Diese 
 werden mit der Veröffentlichung in der LKZ ergänzt.\n\n\n\nStreckenverla
 uf\nDegerloch - Heslach - Hasenberg - Degerloch\n\n\nAnforderungen\nGehzei
 t: 4 Std.\n\n\nVerpflegung\nRucksackvesper\, Schlusseinkehr\n\n\nAbfahrt\n
  Uhr Ludwigsburg Bahnhof\n\n\nFahrpreis\nMitglieder 7 €\, Nichtmitglied
 er 10 €\n\n\nAnmeldung\nbis 1.08.\, 11 Uhr  bei Fa. naturzeit\, Seestr.
 \nOnline-Anmeldung bis 1.08.\, 10:00 Uhr\nOnline-Anmeldung ist noch nicht 
 freigeschaltet\n\n\nTransfer\nKarin Altendorf-Holzwarth\, Dieter Holzwart
 h\nT. 07142 / 7769432\, Mobil: 0176 10554671\n\n\n\n&nbsp\;
END:VEVENT
BEGIN:VTIMEZONE
TZID:Europe/Berlin
X-LIC-LOCATION:Europe/Berlin
BEGIN:DAYLIGHT
DTSTART:20260329T030000
TZOFFSETFROM:+0100
TZOFFSETTO:+0200
TZNAME:CEST
END:DAYLIGHT
END:VTIMEZONE
END:VCALENDAR