BEGIN:VCALENDAR
VERSION:2.0
PRODID:-//wp-events-plugin.com//5.99912//EN
TZID:Europe/Berlin
X-WR-TIMEZONE:Europe/Berlin
BEGIN:VEVENT
UID:0-470@ludwigsburg.albverein.eu
DTSTART;TZID=Europe/Berlin;VALUE=DATE:20261018
DTEND;TZID=Europe/Berlin;VALUE=DATE:20261019
DTSTAMP:20260110T155114Z
URL:https://ludwigsburg.albverein.eu/events/prinz-friedrichs-kochherd/
SUMMARY:Prinz Friedrichs Kochherd
DESCRIPTION:\n\n\nStreckenverlauf\nOberstenfeld - Gronau\n\n\nAnforderungen
 \nGehzeit: 3 Std.\, Länge: 12 km\n\n\nVerpflegung\nRucksackvesper\, Schlu
 sseinkehr\n\n\nTreffpunkt\n Uhr Ludwigsburg Bahnhofshalle Reisezentrum\n\
 n\nFahrpreis\nMitglieder  8 €\, Nichtmitglieder  11 €\n\n\nAnmeldung
 \nbis 17.01. 11:00 Uhr bei Fa. Naturzeit\n\n\n\nLeitung\nChrista Mugele (T
 . 07141 / 925152)\n\n\n\n&nbsp\;
END:VEVENT
BEGIN:VTIMEZONE
TZID:Europe/Berlin
X-LIC-LOCATION:Europe/Berlin
BEGIN:DAYLIGHT
DTSTART:20260329T030000
TZOFFSETFROM:+0100
TZOFFSETTO:+0200
TZNAME:CEST
END:DAYLIGHT
END:VTIMEZONE
END:VCALENDAR