BEGIN:VCALENDAR
VERSION:2.0
PRODID:-//wp-events-plugin.com//5.99912//EN
TZID:Europe/Berlin
X-WR-TIMEZONE:Europe/Berlin
BEGIN:VEVENT
UID:0-483@ludwigsburg.albverein.eu
DTSTART;TZID=Europe/Berlin:20260722T090000
DTEND;TZID=Europe/Berlin:20260722T110000
DTSTAMP:20260111T173730Z
URL:https://ludwigsburg.albverein.eu/events/pflegeaktion-bergstirne/
SUMMARY:Pflegeaktion Bergstirne
DESCRIPTION:Einmal jährlich findet am Naturdenkmal „Bergstirne“ eine P
 flegeaktion statt. Das flächenhafte Naturdenkmal besteht aus unterschiedl
 ichen landschaftlichen Strukturen\, unter anderem auch artenreichem Halbtr
 ockenrasen. Durch eine jährliche Mahd sollen die Halbtrockenrasenflächen
  erhalten bleiben und ein Verbuschen verhindert werden.\n\nIn Zusammenarbe
 it mit der Stadt Ludwigsburg werden die Flächen gemäht und das Mähgut a
 btransportiert. Die Stadt Ludwigsburg übernimmt das Mähen und den Abtran
 sport. Die OG Ludwigsburg bereitet das Mähgut für den Abtransport vor.\n
 \nLeitung: Werner Brekle
END:VEVENT
BEGIN:VTIMEZONE
TZID:Europe/Berlin
X-LIC-LOCATION:Europe/Berlin
BEGIN:DAYLIGHT
DTSTART:20260329T030000
TZOFFSETFROM:+0100
TZOFFSETTO:+0200
TZNAME:CEST
END:DAYLIGHT
END:VTIMEZONE
END:VCALENDAR