BEGIN:VCALENDAR
VERSION:2.0
PRODID:-//wp-events-plugin.com//5.99912//EN
TZID:Europe/Berlin
X-WR-TIMEZONE:Europe/Berlin
BEGIN:VEVENT
UID:0-487@ludwigsburg.albverein.eu
DTSTART;TZID=Europe/Berlin:20260926T090000
DTEND;TZID=Europe/Berlin:20260926T160000
DTSTAMP:20260112T090136Z
URL:https://ludwigsburg.albverein.eu/events/naturschutzpflege-naturschutzp
 rojekt-fuellmenbacher-hofberg-2/
SUMMARY:Naturschutzpflege: Naturschutzprojekt Füllmenbacher Hofberg
DESCRIPTION:Pflegemaßnahme\, Beginn 9:00 Uhr\nTeilnahme mit eigener Initia
 tive\n\nNähere Informationen
END:VEVENT
BEGIN:VTIMEZONE
TZID:Europe/Berlin
X-LIC-LOCATION:Europe/Berlin
BEGIN:DAYLIGHT
DTSTART:20260329T030000
TZOFFSETFROM:+0100
TZOFFSETTO:+0200
TZNAME:CEST
END:DAYLIGHT
END:VTIMEZONE
END:VCALENDAR