BEGIN:VCALENDAR
VERSION:2.0
PRODID:-//wp-events-plugin.com//5.99912//EN
TZID:Europe/Berlin
X-WR-TIMEZONE:Europe/Berlin
BEGIN:VEVENT
UID:0-476@ludwigsburg.albverein.eu
DTSTART;TZID=Europe/Berlin;VALUE=DATE:20260721
DTEND;TZID=Europe/Berlin;VALUE=DATE:20260722
DTSTAMP:20260110T174456Z
URL:https://ludwigsburg.albverein.eu/events/museum-schloss-hohenstein/
SUMMARY:Kulturprogramm: Museum Schloss Hohenstein
DESCRIPTION:Die untenstehenden Angaben sind noch nicht vollständig. Diese 
 werden mit der Veröffentlichung in der LKZ ergänzt.\n\nAbfahrt:      
        Uhr Bahnhof Ludwigsburg\nKosten:             Mitglieder
   €\, Nichtmitglieder  €\nAnmeldung:      bis  bei Elvira Huber\
 , Mobil: 0176 / 26638881
END:VEVENT
BEGIN:VTIMEZONE
TZID:Europe/Berlin
X-LIC-LOCATION:Europe/Berlin
BEGIN:DAYLIGHT
DTSTART:20260329T030000
TZOFFSETFROM:+0100
TZOFFSETTO:+0200
TZNAME:CEST
END:DAYLIGHT
END:VTIMEZONE
END:VCALENDAR