BEGIN:VCALENDAR
VERSION:2.0
PRODID:-//wp-events-plugin.com//5.99912//EN
TZID:Europe/Berlin
X-WR-TIMEZONE:Europe/Berlin
BEGIN:VEVENT
UID:0-471@ludwigsburg.albverein.eu
DTSTART;TZID=Europe/Berlin;VALUE=DATE:20260625
DTEND;TZID=Europe/Berlin;VALUE=DATE:20260626
DTSTAMP:20260110T155856Z
URL:https://ludwigsburg.albverein.eu/events/metterzimmern-brachbergtal-bie
 tigheim/
SUMMARY:Feierabendwanderung
DESCRIPTION:Die untenstehenden Angaben sind noch nicht vollständig. Diese 
 werden mit der Veröffentlichung in der LKZ ergänzt.\n\n\n\nStreckenverla
 uf\nMetterzimmern - Löchgauer Tal - Brachbergtal - Bietigheim\n\n\nAnford
 erungen\nGehzeit: 2\,5 Std.\, Länge: 10 km\, Hm: ↑ 110 m\, ↓ 120 m\n\
 n\nVerpflegung\nSchlusseinkehr\n\n\nAbfahrt\n Uhr Ludwigsburg Bahnhof\n\n
 \nFahrpreis\nMitglieder 7 €\, Nichtmitglieder 10 €\n\n\nAnmeldung\nbis
  25.06.\, 15 Uhr  bei Fa. naturzeit\, Seestr.\n\n\nLeitung\nElvira Huber\
 , Mobil: 0176 / 26638881\n\n\n\n&nbsp\;
END:VEVENT
BEGIN:VTIMEZONE
TZID:Europe/Berlin
X-LIC-LOCATION:Europe/Berlin
BEGIN:DAYLIGHT
DTSTART:20260329T030000
TZOFFSETFROM:+0100
TZOFFSETTO:+0200
TZNAME:CEST
END:DAYLIGHT
END:VTIMEZONE
END:VCALENDAR