BEGIN:VCALENDAR
VERSION:2.0
PRODID:-//wp-events-plugin.com//5.99912//EN
TZID:Europe/Berlin
X-WR-TIMEZONE:Europe/Berlin
BEGIN:VEVENT
UID:0-461@ludwigsburg.albverein.eu
DTSTART;TZID=Europe/Berlin;VALUE=DATE:20260525
DTEND;TZID=Europe/Berlin;VALUE=DATE:20260526
DTSTAMP:20260110T150051Z
URL:https://ludwigsburg.albverein.eu/events/kulturwanderweg-jagst-5-etappe
 /
SUMMARY:Kulturwanderweg Jagst 5. Etappe
DESCRIPTION:Die untenstehenden Angaben sind noch nicht vollständig. Diese 
 werden mit der Veröffentlichung in der LKZ ergänzt.\n\n\n\nStreckenverla
 uf\nBieringen - Westernhausen - Krautheim\n\n\nAnforderungen\nGehzeit: 3 3
 /4 Std.\, Länge: 13 km\, Hm: ↑ 230 m\, ↓ 210 m\n\n\nVerpflegung\nRuck
 sackvesper\, Mittagseinkehr\n\n\nAbfahrt\n Uhr Ludwigsburg Bahnhof\n\n\nF
 ahrpreis\nMitglieder 14 €\, Nichtmitglieder 17 €\n\n\nAnmeldung\nbis 2
 3.05.\, 11 Uhr  bei Fa. naturzeit\, Seestr.\nOnline-Anmeldung bis 23.05.\
 , 10:00 Uhr\nOnline-Anmeldung ist noch nicht freigeschaltet\n\n\nLeitung\n
 Karin Altendorf-Holzwarth\, Dieter Holzwarth\nT. 07142 / 7769432\, Mobil:
  0176 10554671\n\n\n\n&nbsp\;
END:VEVENT
BEGIN:VTIMEZONE
TZID:Europe/Berlin
X-LIC-LOCATION:Europe/Berlin
BEGIN:DAYLIGHT
DTSTART:20260329T030000
TZOFFSETFROM:+0100
TZOFFSETTO:+0200
TZNAME:CEST
END:DAYLIGHT
END:VTIMEZONE
END:VCALENDAR