BEGIN:VCALENDAR
VERSION:2.0
PRODID:-//wp-events-plugin.com//5.99912//EN
TZID:Europe/Berlin
X-WR-TIMEZONE:Europe/Berlin
BEGIN:VEVENT
UID:0-477@ludwigsburg.albverein.eu
DTSTART;TZID=Europe/Berlin;VALUE=DATE:20260909
DTEND;TZID=Europe/Berlin;VALUE=DATE:20260910
DTSTAMP:20260110T174702Z
URL:https://ludwigsburg.albverein.eu/events/kulturprogramm-hundertwasserha
 us-plochingen/
SUMMARY:Kulturprogramm: Hundertwasserhaus Plochingen
DESCRIPTION:Die untenstehenden Angaben sind noch nicht vollständig. Diese 
 werden mit der Veröffentlichung in der LKZ ergänzt.\n\nAbfahrt:      
        Uhr Bahnhof Ludwigsburg\nKosten:             Mitglieder
   €\, Nichtmitglieder  €\nAnmeldung:      bis  bei Karin Altendo
 rf-Holzwarth\, T. 07142 / 7769432
END:VEVENT
BEGIN:VTIMEZONE
TZID:Europe/Berlin
X-LIC-LOCATION:Europe/Berlin
BEGIN:DAYLIGHT
DTSTART:20260329T030000
TZOFFSETFROM:+0100
TZOFFSETTO:+0200
TZNAME:CEST
END:DAYLIGHT
END:VTIMEZONE
END:VCALENDAR