BEGIN:VCALENDAR
VERSION:2.0
PRODID:-//wp-events-plugin.com//5.99912//EN
TZID:Europe/Berlin
X-WR-TIMEZONE:Europe/Berlin
BEGIN:VEVENT
UID:0-474@ludwigsburg.albverein.eu
DTSTART;TZID=Europe/Berlin;VALUE=DATE:20260430
DTEND;TZID=Europe/Berlin;VALUE=DATE:20260501
DTSTAMP:20260410T151037Z
URL:https://ludwigsburg.albverein.eu/events/kulturprogramm-betriebsbesicht
 igung-villa-reitzenstein/
SUMMARY:Kulturprogramm: Betriebsbesichtigung Villa Reitzenstein
DESCRIPTION:Die Besichtigung der Villa Reitzenstein dauert ca. 1\,5 Stunden
 . Es ist eine Schlusseinkehr geplant. Die Teilnehmerzahl ist begrenzt.\n\n
 Abfahrt:             12.46 Uhr Bahnhof Ludwigsburg\nKosten:     
         Mitglieder ohne Fahrkarte 4 €\,\n.                 
        Mitglieder mit Fahrkarte 0 €\n.                    
     Nichtmitglieder ohne Fahrkarte 9 €\n.                   
      Nichtmitglieder mit Fahrkarte 5 €\nAnmeldung:      bis 21.04.
   bei Günter König\, T. 07142 / 30852\n\nInformationen zur Führung und
  Datenschutzrechtliche Hinweise
END:VEVENT
BEGIN:VTIMEZONE
TZID:Europe/Berlin
X-LIC-LOCATION:Europe/Berlin
BEGIN:DAYLIGHT
DTSTART:20260329T030000
TZOFFSETFROM:+0100
TZOFFSETTO:+0200
TZNAME:CEST
END:DAYLIGHT
END:VTIMEZONE
END:VCALENDAR