BEGIN:VCALENDAR
VERSION:2.0
PRODID:-//wp-events-plugin.com//5.99912//EN
TZID:Europe/Berlin
X-WR-TIMEZONE:Europe/Berlin
BEGIN:VEVENT
UID:0-462@ludwigsburg.albverein.eu
DTSTART;TZID=Europe/Berlin;VALUE=DATE:20260705
DTEND;TZID=Europe/Berlin;VALUE=DATE:20260706
DTSTAMP:20260110T150526Z
URL:https://ludwigsburg.albverein.eu/events/hoehlen-auf-dem-rosenstein/
SUMMARY:Höhlen auf dem Rosenstein
DESCRIPTION:Die untenstehenden Angaben sind noch nicht vollständig. Diese 
 werden mit der Veröffentlichung in der LKZ ergänzt.\n\n\n\nStreckenverla
 uf\nEssingen - Lauterburg - Rosenstein - Heubach\n\n\nAnforderungen\nGehze
 it: 4 Std.\, Länge: 14 km\, Hm: ↑ 340 m\, ↓ 380 m\n\n\nVerpflegung\nR
 ucksackvesper\, Schlusseinkehr\n\n\nAbfahrt\n Uhr Ludwigsburg Bahnhof\n\n
 \nFahrpreis\nMitglieder 14 €\, Nichtmitglieder 17 €\n\n\nAnmeldung\nbi
 s 4.07.\, 11 Uhr  bei Fa. naturzeit\, Seestr.\nOnline-Anmeldung bis 4.07.
 \, 10:00 Uhr\nOnline-Anmeldung ist noch nicht freigeschaltet\n\n\nLeitung\
 nKarin Altendorf-Holzwarth\, Dieter Holzwarth\nT. 07142 / 7769432\, Mobil
 : 0176 10554671\n\n\n\n&nbsp\;
END:VEVENT
BEGIN:VTIMEZONE
TZID:Europe/Berlin
X-LIC-LOCATION:Europe/Berlin
BEGIN:DAYLIGHT
DTSTART:20260329T030000
TZOFFSETFROM:+0100
TZOFFSETTO:+0200
TZNAME:CEST
END:DAYLIGHT
END:VTIMEZONE
END:VCALENDAR