BEGIN:VCALENDAR
VERSION:2.0
PRODID:-//wp-events-plugin.com//5.99912//EN
TZID:Europe/Berlin
X-WR-TIMEZONE:Europe/Berlin
BEGIN:VEVENT
UID:0-506@ludwigsburg.albverein.eu
DTSTART;TZID=Europe/Berlin;VALUE=DATE:20261011
DTEND;TZID=Europe/Berlin;VALUE=DATE:20261012
DTSTAMP:20260115T082148Z
URL:https://ludwigsburg.albverein.eu/events/gedenkfeier-hohe-warte-st-joha
 nn/
SUMMARY:Gedenkfeier Hohe Warte St. Johann
DESCRIPTION:Teilnahme mit eigener Initiative.
END:VEVENT
BEGIN:VTIMEZONE
TZID:Europe/Berlin
X-LIC-LOCATION:Europe/Berlin
BEGIN:DAYLIGHT
DTSTART:20260329T030000
TZOFFSETFROM:+0100
TZOFFSETTO:+0200
TZNAME:CEST
END:DAYLIGHT
END:VTIMEZONE
END:VCALENDAR