BEGIN:VCALENDAR
VERSION:2.0
PRODID:-//wp-events-plugin.com//5.99912//EN
TZID:Europe/Berlin
X-WR-TIMEZONE:Europe/Berlin
BEGIN:VEVENT
UID:0-490@ludwigsburg.albverein.eu
DTSTART;TZID=Europe/Berlin;VALUE=DATE:20261010
DTEND;TZID=Europe/Berlin;VALUE=DATE:20261011
DTSTAMP:20260112T114023Z
URL:https://ludwigsburg.albverein.eu/events/gauherbstwanderung-2/
SUMMARY:Gauherbstwanderung
DESCRIPTION:Ausrichter der Gauherbstwanderung ist dieses Jahr die OG Vaihin
 gen/Ensingen.\nEin detailliertes Programm wird zeitnah eingestellt.\n\nInf
 ormationen bei Christel Krumm\nTel.: 07141 / 71409\nMail: SAV.krumm@t-onli
 ne.de
END:VEVENT
BEGIN:VTIMEZONE
TZID:Europe/Berlin
X-LIC-LOCATION:Europe/Berlin
BEGIN:DAYLIGHT
DTSTART:20260329T030000
TZOFFSETFROM:+0100
TZOFFSETTO:+0200
TZNAME:CEST
END:DAYLIGHT
END:VTIMEZONE
END:VCALENDAR