BEGIN:VCALENDAR
VERSION:2.0
PRODID:-//wp-events-plugin.com//5.99912//EN
TZID:Europe/Berlin
X-WR-TIMEZONE:Europe/Berlin
BEGIN:VEVENT
UID:0-510@ludwigsburg.albverein.eu
DTSTART;TZID=Europe/Berlin;VALUE=DATE:20260419
DTEND;TZID=Europe/Berlin;VALUE=DATE:20260420
DTSTAMP:20260417T184412Z
URL:https://ludwigsburg.albverein.eu/events/aussicht-vom-kaeppele-wo-eisze
 itjaeger-schon-lagerten/
SUMMARY:Aussicht vom Käppele\, wo Eiszeitjäger schon lagerten
DESCRIPTION:\n\nUnsere Wanderung beginnt in Owen unter Teck. Von dort steig
 en wir aus dem Tal der Lenninger Lauter hinauf zum Käppele\, wo uns ein w
 underschöner Blick auf den Albtrauf erwartet. Bereits die Eiszeitjäger n
 utzten die besondere Lage nahe am Trauf und warteten hier auf vorbeiziehen
 de Herden wilder Tiere. Nach einer Pause führt uns der Weg durch Wald hin
 ab ins Tiefenbachtal zum Restaurant Kräuterbühl\, wo wir unsere Mittagsr
 ast einlegen. Gestärkt wandern wir anschließend ein Stück durch das Alb
 vorland\, bis zur Ortschaft Reudern. Von dort bringt uns der Bus zurück n
 ach Kirchheim unter Teck\, und mit der S-Bahn fahren wir schließlich weit
 er nach Ludwigsburg.\n\n\n\n\n\nStreckenverlauf\nDettingen/Teck - Käppele
  - Tiefenbachtal - Reudern\n\n\n\n\n\n\nAnforderungen\nGehzeit: 3\,5-4 h\n
 \nLänge: 14 km\n\n\nVerpflegung\nRucksackvesper\, Mittagseinkehr\n\n\nAbf
 ahrt\n 10 Uhr 05 Ludwigsburg Bahnhof\n\n\nFahrpreis\nMitglieder 8 €\, N
 ichtmitglieder 11 €\n\n\nAnmeldung\n\n\n\n\nin der Woche vor der Wanderu
 ng liegt bei der Firma naturzeit GmbH &amp\; Co.KG in der Seestraße eine 
 Anmeldeliste aus.\nDie Online-Anmeldung ist frei geschaltet.\n\n\n\n\n\n\n
 Leitung\nThomas Bucic\nT. 07154 26379\n\n\n\n&nbsp\;
ATTACH;FMTTYPE=image/jpeg:https://ludwigsburg.albverein.eu/wp-content/uplo
 ads/sites/504/2026/04/Blick-vom-Kaeppele.jpg
END:VEVENT
BEGIN:VTIMEZONE
TZID:Europe/Berlin
X-LIC-LOCATION:Europe/Berlin
BEGIN:DAYLIGHT
DTSTART:20260329T030000
TZOFFSETFROM:+0100
TZOFFSETTO:+0200
TZNAME:CEST
END:DAYLIGHT
END:VTIMEZONE
END:VCALENDAR