BEGIN:VCALENDAR
VERSION:2.0
PRODID:-//wp-events-plugin.com//5.99912//EN
TZID:Europe/Berlin
X-WR-TIMEZONE:Europe/Berlin
BEGIN:VEVENT
UID:0-420@ludwigsburg.albverein.eu
DTSTART;TZID=Europe/Berlin;VALUE=DATE:20260924
DTEND;TZID=Europe/Berlin;VALUE=DATE:20260928
DTSTAMP:20251230T104149Z
URL:https://ludwigsburg.albverein.eu/events/123-deutscher-wandertag-in-obe
 rwiesenthal-im-erzgebirge/
SUMMARY:123. Deutscher Wandertag in Oberwiesenthal im Erzgebirge
DESCRIPTION:Dem Deutschen Wanderverband (DWV) gehören ca. 70 Gebirgs- und 
 Wandervereine an. Er organisiert jedes Jahr eine mehrtägige Veranstaltung
  mit Wanderungen und interessantem Rahmenprogramm\, zu denen sich ca. 20.0
 00 Wanderfreunde aus ganz Deutschland treffen und an gemeinsamen Veranstal
 tungen teilnehmen.\n\nDer Deutsche Wandertag findet nächstes Jahr vom 24.
 09 - 27.09.26 in Oberwiesenthal im Erzgebirge statt.\n\nDie Ortsgruppe Lud
 wigsburg organisiert keine gemeinsame Anfahrt nach Oberwiesenthal mit Übe
 rnachtungen an. Bei Interesse am Deutschen Wandertag sind Anreise (mit Bah
 n oder Privat-PKW) mit Übernachtungen in eigener Initiative zu organisier
 en.\n\nEs ist ratsam\, jetzt schon Zimmer in Hotels oder Pensionen zu buch
 en. Die Bestellung der Wandertagsplaketten für die Teilnahme am Deutschen
  Wandertag sowie die Buchung der Veranstaltungen können noch später orga
 nisiert werden.\n\nBei Fragen stehen Karin und Dieter Holzwarth gerne zur 
 Verfügung:\nTel.: 07142 / 7769432\n\n123. Deutscher Wandertag in Oberwies
 enthal\n\nGroßes Wanderfest mit EURANDO im Erzgebirge
END:VEVENT
BEGIN:VTIMEZONE
TZID:Europe/Berlin
X-LIC-LOCATION:Europe/Berlin
BEGIN:DAYLIGHT
DTSTART:20260329T030000
TZOFFSETFROM:+0100
TZOFFSETTO:+0200
TZNAME:CEST
END:DAYLIGHT
END:VTIMEZONE
END:VCALENDAR